BEGIN:VCALENDAR
VERSION:2.0
PRODID:-//eventon.com NONSGML v1.0//EN
CALSCALE:GREGORIAN
METHOD:PUBLISH
BEGIN:VEVENT
UID:69e5eeff6d09e
DTSTAMP:20260420T091647Z
DTSTART:20251122T103000Z
DTEND:20251122T123000Z
LOCATION:Cakes of Wonderland Blewitt Court\,  Bore Street\,  Lichfield WS13 6LL
SUMMARY:Menopause Cafe Lichfield\,  Staffordshire
DESCRIPTION:Samantha Jones samlee126@hotmail.com 07866 746215\nhttps://www.
 menopausecafe.net/events/menopause-cafe-lichfield-13/
URL:https://www.menopausecafe.net/events/menopause-cafe-lichfield-13/
END:VEVENT
END:VCALENDAR