BEGIN:VCALENDAR
VERSION:2.0
PRODID:-//eventon.com NONSGML v1.0//EN
CALSCALE:GREGORIAN
METHOD:PUBLISH
BEGIN:VEVENT
UID:69e5eea425fb4
DTSTAMP:20260420T091516Z
DTSTART:20251022T090000Z
DTEND:20251022T110000Z
LOCATION:Pontefract Hospital Friarwood Lane\,  Pontefract\,  WF8 1PL
SUMMARY:Menopause Cafe Mid Yorkshire Teaching Trust
DESCRIPTION:E: j.hubert@nhs.net Staff only event\nhttps://www.menopausecafe
 .net/events/mid-yorks-menopause-cafe-staff-only-10/
URL:https://www.menopausecafe.net/events/mid-yorks-menopause-cafe-staff-only-10/
END:VEVENT
END:VCALENDAR