BEGIN:VCALENDAR
VERSION:2.0
PRODID:-//eventon.com NONSGML v1.0//EN
CALSCALE:GREGORIAN
METHOD:PUBLISH
BEGIN:VEVENT
UID:69e5eeae9fdad
DTSTAMP:20260420T091526Z
DTSTART:20250707T090000Z
DTEND:20250707T100000Z
LOCATION:Mid Yorkshire Hospital Trust Menopause Cafe Pinderfields Trust HQ
SUMMARY:Menopause Cafe Mid Yorkshire NHS Trust
DESCRIPTION:E: midyorks.occupational.health@nhs.net Staff Only\nhttps://www
 .menopausecafe.net/events/mid-yorks-menopause-cafe-staff-only-14/
URL:https://www.menopausecafe.net/events/mid-yorks-menopause-cafe-staff-only-14/
END:VEVENT
END:VCALENDAR