BEGIN:VCALENDAR
VERSION:2.0
PRODID:-//eventon.com NONSGML v1.0//EN
CALSCALE:GREGORIAN
METHOD:PUBLISH
BEGIN:VEVENT
UID:69e7373389318
DTSTAMP:20260421T083707Z
DTSTART:20250509T111500Z
DTEND:20250509T120000Z
LOCATION:Enfield Council Online
SUMMARY:Menopause Cafe Enfield Council\,  London
DESCRIPTION:Menopause Cafe Enfield Council\,  London\nhttps://www.menopause
 cafe.net/events/enfield-council-menopause-cafe-6/
URL:https://www.menopausecafe.net/events/enfield-council-menopause-cafe-6/
END:VEVENT
END:VCALENDAR