BEGIN:VCALENDAR
VERSION:2.0
PRODID:-//eventon.com NONSGML v1.0//EN
CALSCALE:GREGORIAN
METHOD:PUBLISH
BEGIN:VEVENT
UID:69e9ddc807794
DTSTAMP:20260423T085224Z
DTSTART:20250716T010000Z
DTEND:20250716T143000Z
LOCATION:Pobl Group Newport
SUMMARY:Menopause Cafe Pobl Group\,  Newport
DESCRIPTION:Menopause Cafe Pobl Group\,  Newport\nhttps://www.menopausecafe
 .net/events/menopause-cafe-newport-3/
URL:https://www.menopausecafe.net/events/menopause-cafe-newport-3/
END:VEVENT
END:VCALENDAR