BEGIN:VCALENDAR
VERSION:2.0
PRODID:-//eventon.com NONSGML v1.0//EN
CALSCALE:GREGORIAN
METHOD:PUBLISH
BEGIN:VEVENT
UID:69e9e3931a7ca
DTSTAMP:20260423T091707Z
DTSTART:20250513T143000Z
DTEND:20250513T153000Z
LOCATION:Bayer AG Mullerstrasse 178\,  Berlin
SUMMARY:Menopause Cafe Bayer\,  Berlin
DESCRIPTION:For internal Bayer employees only\nhttps://www.menopausecafe.ne
 t/events/menopause-cafe-at-work-bayer-berlin-4/
URL:https://www.menopausecafe.net/events/menopause-cafe-at-work-bayer-berlin-4/
END:VEVENT
END:VCALENDAR