BEGIN:VCALENDAR
VERSION:2.0
PRODID:-//eventon.com NONSGML v1.0//EN
CALSCALE:GREGORIAN
METHOD:PUBLISH
BEGIN:VEVENT
UID:69e3988c939b5
DTSTAMP:20260418T144324Z
DTSTART:20250429T170000Z
DTEND:20250429T190000Z
LOCATION:Wellspring Methodist Church
SUMMARY:Menopause Cafe Cheadle\,  Staffordshire
DESCRIPTION:Menopause Cafe Cheadle\,  Staffordshire\nhttps://www.menopausec
 afe.net/events/menopause-cafe-cheadle-staffordshire/
URL:https://www.menopausecafe.net/events/menopause-cafe-cheadle-staffordshire/
END:VEVENT
END:VCALENDAR