BEGIN:VCALENDAR
VERSION:2.0
PRODID:-//eventon.com NONSGML v1.0//EN
CALSCALE:GREGORIAN
METHOD:PUBLISH
BEGIN:VEVENT
UID:69e5ee7e3982c
DTSTAMP:20260420T091438Z
DTSTART:20250607T040000Z
DTEND:20250607T053000Z
LOCATION:Cafe Stepping Stone 8 Hawdon Place\,  Dickson
SUMMARY:Menopause Cafe Dickson\,  Canberra
DESCRIPTION:Come join us for a free Menopause Cafe Dickson\,  Canberra gath
 ering. See URL below to book. It is for everyone who wants to talk about th
 e menopause\,  to share their stories\,  experiences and questions over a d
 rink and cake (available to purchase at the cafe). There is also no set[..]
 \nhttps://www.menopausecafe.net/events/menopause-cafe-dickson-canberra/
URL:https://www.menopausecafe.net/events/menopause-cafe-dickson-canberra/
END:VEVENT
END:VCALENDAR