BEGIN:VCALENDAR
VERSION:2.0
PRODID:-//eventon.com NONSGML v1.0//EN
CALSCALE:GREGORIAN
METHOD:PUBLISH
BEGIN:VEVENT
UID:69e5eea6997f4
DTSTAMP:20260420T091518Z
DTSTART:20250525T130000Z
DTEND:20250525T143000Z
LOCATION:Dreel Halls ( Upper Hall) High Street West\,  Anstruther\,  Fife\,  KY10 3DJ
SUMMARY:Menopause Cafe Anstruther
DESCRIPTION:Menopause Cafe&nbsp; Dreel Halls Upper Hall) High Street West\,
   Anstruther\,  Fife\,  KY10 3DJ &nbsp;2-3.30pm To book or find out more co
 ntact Marie Louise queenofrevelry@gmail.com or 07305 257608\nhttps://www.me
 nopausecafe.net/events/menopause-cafe-anstruther/
URL:https://www.menopausecafe.net/events/menopause-cafe-anstruther/
END:VEVENT
END:VCALENDAR