BEGIN:VCALENDAR
VERSION:2.0
PRODID:-//eventon.com NONSGML v1.0//EN
CALSCALE:GREGORIAN
METHOD:PUBLISH
BEGIN:VEVENT
UID:69e5ee7b03a9c
DTSTAMP:20260420T091435Z
DTSTART:20250530T120000Z
DTEND:20250530T133000Z
LOCATION:Letham4all\,  The Hub Amulree Road\,  Letham\,  Perth PH1 2HH
SUMMARY:Menopause Cafe\,  Letham\,  Perth
DESCRIPTION:Menopause Cafe Letham\,  Perth Friday 30th May 1pm to 2.30pm Ve
 nue: The Hub\,  Letham4all\,  Amulree Road\,  Letham\,  Perth PH1 2HH Organ
 iser: Carla Murray Book at reception or call: 01738 444061\nhttps://www.men
 opausecafe.net/events/menopause-cafe-letham-perth/
URL:https://www.menopausecafe.net/events/menopause-cafe-letham-perth/
END:VEVENT
END:VCALENDAR