BEGIN:VCALENDAR
VERSION:2.0
PRODID:-//eventon.com NONSGML v1.0//EN
CALSCALE:GREGORIAN
METHOD:PUBLISH
BEGIN:VEVENT
UID:69e5ed5872aa0
DTSTAMP:20260420T090944Z
DTSTART:20251113T121500Z
DTEND:20251113T130000Z
LOCATION:Enfield Council Online
SUMMARY:Menopause Cafe Enfield Council\,  London
DESCRIPTION:Online Workplace Event\nhttps://www.menopausecafe.net/events/en
 field-council-menopause-cafe-7/var/ri-5.l-L1
URL:https://www.menopausecafe.net/events/enfield-council-menopause-cafe-7/var/ri-5.l-L1
END:VEVENT
END:VCALENDAR