BEGIN:VCALENDAR
VERSION:2.0
PRODID:-//eventon.com NONSGML v1.0//EN
CALSCALE:GREGORIAN
METHOD:PUBLISH
BEGIN:VEVENT
UID:69e73800ba45e
DTSTAMP:20260421T084032Z
DTSTART:20250424T110000Z
DTEND:20250424T120000Z
LOCATION:
SUMMARY:Menopause Cafe Borders Healthy Working Lives
DESCRIPTION:Katie Finlay NHS Borders Healthy Working Lives Advisor katie.fi
 nlay2@nhs.scot Healthy Working Lives invite you to join our online cafe\,  
 aimed at breaking down the stigma around menopause and increasing awareness
  of the impact of the menopause on those experiencing it\,  their family\, 
  friends and their colleagues will be held online[..]\nhttps://www.menopaus
 ecafe.net/events/menopause-cafe-borders-healthy-working-lives-4/
URL:https://www.menopausecafe.net/events/menopause-cafe-borders-healthy-working-lives-4/
END:VEVENT
END:VCALENDAR