BEGIN:VCALENDAR
VERSION:2.0
PRODID:-//eventon.com NONSGML v1.0//EN
CALSCALE:GREGORIAN
METHOD:PUBLISH
BEGIN:VEVENT
UID:69e5ef2a28cc6
DTSTAMP:20260420T091730Z
DTSTART:20250522T170000Z
DTEND:20250522T180000Z
LOCATION:Asda Galashiels Currie Road\,  Galashiels\,  TD1 2AG
SUMMARY:Menopause Cafe Borders Healthy Working Lives
DESCRIPTION:Katie Finlay NHS Borders Healthy Working Lives Advisor katie.fi
 nlay2@nhs.scot This event will take place at the Asda Superstore in Galashi
 els. See URL below to book\nhttps://www.menopausecafe.net/events/menopause-
 cafe-borders-healthy-working-lives-5/
URL:https://www.menopausecafe.net/events/menopause-cafe-borders-healthy-working-lives-5/
END:VEVENT
END:VCALENDAR