BEGIN:VCALENDAR
VERSION:2.0
PRODID:-//eventon.com NONSGML v1.0//EN
CALSCALE:GREGORIAN
METHOD:PUBLISH
BEGIN:VEVENT
UID:69e5ee5a7239e
DTSTAMP:20260420T091402Z
DTSTART:20250515T180000Z
DTEND:20250515T190000Z
LOCATION:Denmead Grange Barchester Care Home Forest Road\,  Denmead\,  PO7 6XP
SUMMARY:Menopause Cafe Waterlooville\,  Hampshire Thursday Evening
DESCRIPTION:Parking at Denmead Grange Please sign-in\,  You will be greeted
  and taken to our meeting room. See URL below to book We are on Facebook Wa
 terloovilleMenopauseCafe22@outlook.com Caroline\nhttps://www.menopausecafe.
 net/events/waterlooville-menopause-cafe-thursday-evening/
URL:https://www.menopausecafe.net/events/waterlooville-menopause-cafe-thursday-evening/
END:VEVENT
END:VCALENDAR