BEGIN:VCALENDAR
VERSION:2.0
PRODID:-//eventon.com NONSGML v1.0//EN
CALSCALE:GREGORIAN
METHOD:PUBLISH
BEGIN:VEVENT
UID:69e9e135bccc1
DTSTAMP:20260423T090701Z
DTSTART:20250604T170000Z
DTEND:20250604T183000Z
LOCATION:Langstone Quays Resort Northney Rd\,  Portsmouth\,  Hayling Island PO11 0NQ 
SUMMARY:Menopause Cafe Hayling Island\,  Hampshire
DESCRIPTION:See URL below to book.\nhttps://www.menopausecafe.net/events/me
 nopause-cafe-hayling-island/
URL:https://www.menopausecafe.net/events/menopause-cafe-hayling-island/
END:VEVENT
END:VCALENDAR