BEGIN:VCALENDAR
VERSION:2.0
PRODID:-//eventon.com NONSGML v1.0//EN
CALSCALE:GREGORIAN
METHOD:PUBLISH
BEGIN:VEVENT
UID:69e76d663fe82
DTSTAMP:20260421T122822Z
DTSTART:20250506T130000Z
DTEND:20250506T140000Z
LOCATION:Heathers 86 Kingsley Park Terrace\,  Northampton. NN2 7HJ
SUMMARY:Menopause Cafe Kingsley\,  Northampton
DESCRIPTION:Join us at Heathers on Kingsley Park terrace Northampton nn27hj
 &nbsp;\nhttps://www.menopausecafe.net/events/menopause-cafe-kingsley-northa
 mpton/
URL:https://www.menopausecafe.net/events/menopause-cafe-kingsley-northampton/
END:VEVENT
END:VCALENDAR