BEGIN:VCALENDAR
VERSION:2.0
PRODID:-//eventon.com NONSGML v1.0//EN
CALSCALE:GREGORIAN
METHOD:PUBLISH
BEGIN:VEVENT
UID:69e44cd63e877
DTSTAMP:20260419T033238Z
DTSTART:20250509T100000Z
DTEND:20250509T110000Z
LOCATION:Menopause Meet and Mingle Cafe Walsall Manor Hospital  Moat Road  Walsall  WS2 9PS
SUMMARY:Menopause Cafe Walsall Healthcare Trust
DESCRIPTION:This is a workplace Meet &amp; Mingle Cafe event of Walsall Hea
 lthcare Trust for staff only.\nhttps://www.menopausecafe.net/events/menopau
 se-meet-and-mingle-cafe/
URL:https://www.menopausecafe.net/events/menopause-meet-and-mingle-cafe/
END:VEVENT
END:VCALENDAR