BEGIN:VCALENDAR
VERSION:2.0
PRODID:-//eventon.com NONSGML v1.0//EN
CALSCALE:GREGORIAN
METHOD:PUBLISH
BEGIN:VEVENT
UID:69e9e0370b70c
DTSTAMP:20260423T090247Z
DTSTART:20250604T133000Z
DTEND:20250604T143000Z
LOCATION:
SUMMARY:Menopause Cafe at Work PA Consulting
DESCRIPTION:Join us for four Menopause Cafes hosted across PA Consulting&#8
 217;s offices and online\,  alongside the formal launch of PA&#8217;s MenoS
 upport network.\nhttps://www.menopausecafe.net/events/menopause-cafe-at-wor
 k-pa-consulting/
URL:https://www.menopausecafe.net/events/menopause-cafe-at-work-pa-consulting/
END:VEVENT
END:VCALENDAR