BEGIN:VCALENDAR
VERSION:2.0
PRODID:-//eventon.com NONSGML v1.0//EN
CALSCALE:GREGORIAN
METHOD:PUBLISH
BEGIN:VEVENT
UID:69e9de015c64e
DTSTAMP:20260423T085321Z
DTSTART:20250607T140000Z
DTEND:20250607T160000Z
LOCATION:Online
SUMMARY:Menopause Cafe Online from South London
DESCRIPTION:We are a very friendly welcoming group who would love you to jo
 in us wherever you are &#8211; we are called the South London group but onl
 ine you can join from anywhere! If you email we will send you login details
  to the Google Meet event. The email is menopausecafesouthlondon@gmail.com\
 nhttps://www.menopausecafe.net/events/menopause-cafe-south-london/
URL:https://www.menopausecafe.net/events/menopause-cafe-south-london/
END:VEVENT
END:VCALENDAR