BEGIN:VCALENDAR
VERSION:2.0
PRODID:-//eventon.com NONSGML v1.0//EN
CALSCALE:GREGORIAN
METHOD:PUBLISH
BEGIN:VEVENT
UID:69e6094bd11ed
DTSTAMP:20260420T110859Z
DTSTART:20250830T140000Z
DTEND:20250830T160000Z
LOCATION:Online
SUMMARY:Menopause Cafe Online from South London\,  UK
DESCRIPTION:We hope you can join us online for our Menopause Cafe on 30th A
 ugust at 3pm GMT. Here are the login details: Menopause Cafe online | Satu
 rday 30 Aug · 15:00 – 17:00 Google Meet joining info: https://meet.googl
 e.com/prj-gafy-xcg\nhttps://www.menopausecafe.net/events/menopause-cafe-sou
 th-london-3/
URL:https://www.menopausecafe.net/events/menopause-cafe-south-london-3/
END:VEVENT
END:VCALENDAR