BEGIN:VCALENDAR
VERSION:2.0
PRODID:-//eventon.com NONSGML v1.0//EN
CALSCALE:GREGORIAN
METHOD:PUBLISH
BEGIN:VEVENT
UID:69e9e10b76c1c
DTSTAMP:20260423T090619Z
DTSTART:20250624T170000Z
DTEND:20250624T190000Z
LOCATION:Wellspring Methodist Church
SUMMARY:Menopause Cafe Cheadle\,  Staffordshire
DESCRIPTION:Contact: cherylhoukes@gmail.com\nhttps://www.menopausecafe.net/
 events/menopause-cafe-cheadle-staffordshire-3/
URL:https://www.menopausecafe.net/events/menopause-cafe-cheadle-staffordshire-3/
END:VEVENT
END:VCALENDAR