BEGIN:VCALENDAR
VERSION:2.0
PRODID:-//eventon.com NONSGML v1.0//EN
CALSCALE:GREGORIAN
METHOD:PUBLISH
BEGIN:VEVENT
UID:69e9e0af04f7e
DTSTAMP:20260423T090447Z
DTSTART:20250717T180000Z
DTEND:20250717T190000Z
LOCATION:Denmead Grange Barchester Care Home Forest Road\,  Denmead\,  PO7 6XP
SUMMARY:Menopause Cafe Waterlooville Thursday Evening
DESCRIPTION:Please ring bell and wait for a member of the care team to let 
 you in. Please sign the visitor book and you will be guided to the lounge r
 oom. Caroline will there to welcome you and host the event. Caroline&nbsp; 
 07548502578 Caroline Hellier\nhttps://www.menopausecafe.net/events/menopaus
 e-cafe-waterlooville-thursday-evening/
URL:https://www.menopausecafe.net/events/menopause-cafe-waterlooville-thursday-evening/
END:VEVENT
END:VCALENDAR