BEGIN:VCALENDAR
VERSION:2.0
PRODID:-//eventon.com NONSGML v1.0//EN
CALSCALE:GREGORIAN
METHOD:PUBLISH
BEGIN:VEVENT
UID:69e9e0a9a6d7f
DTSTAMP:20260423T090441Z
DTSTART:20250717T170000Z
DTEND:20250717T183000Z
LOCATION:Gail&#039;s Bakery 46 Carfax Horsham RH12 1EQ
SUMMARY:Cancelled - Menopause Cafe Horsham\,  West Sussex
DESCRIPTION:See URL below to book\nhttps://www.menopausecafe.net/events/men
 opause-cafe-horsham-uk/
URL:https://www.menopausecafe.net/events/menopause-cafe-horsham-uk/
END:VEVENT
END:VCALENDAR