BEGIN:VCALENDAR
VERSION:2.0
PRODID:-//eventon.com NONSGML v1.0//EN
CALSCALE:GREGORIAN
METHOD:PUBLISH
BEGIN:VEVENT
UID:69e9e49ecbcc2
DTSTAMP:20260423T092134Z
DTSTART:20250806T170000Z
DTEND:20250806T183000Z
LOCATION:Langstone Quays Resort Northney Rd\,  Portsmouth\,  Hayling Island PO11 0NQ 
SUMMARY:Menopause Cafe Hayling Island\,  Hampshire
DESCRIPTION:See URL below to book\nhttps://www.menopausecafe.net/events/men
 opause-cafe-hayling-island-4/
URL:https://www.menopausecafe.net/events/menopause-cafe-hayling-island-4/
END:VEVENT
END:VCALENDAR