BEGIN:VCALENDAR
VERSION:2.0
PRODID:-//eventon.com NONSGML v1.0//EN
CALSCALE:GREGORIAN
METHOD:PUBLISH
BEGIN:VEVENT
UID:69e9e100ab96c
DTSTAMP:20260423T090608Z
DTSTART:20250829T113000Z
DTEND:20250829T123000Z
LOCATION:The Larder Cafe Bathgate Road Blackburn EH47 7JN
SUMMARY:Menopause Cafe Blackburn\,  West Lothian
DESCRIPTION:See URL below to book. We will be based in a private room at th
 e back of the Café with a capacity for 6 people. This event is free so if
  you book a space and can&#8217;t make it please remember and release your 
 ticket for someone else to use.\nhttps://www.menopausecafe.net/events/menop
 ause-cafe-blackburn-west-lothian/
URL:https://www.menopausecafe.net/events/menopause-cafe-blackburn-west-lothian/
END:VEVENT
END:VCALENDAR