BEGIN:VCALENDAR
VERSION:2.0
PRODID:-//eventon.com NONSGML v1.0//EN
CALSCALE:GREGORIAN
METHOD:PUBLISH
BEGIN:VEVENT
UID:69e5ef1fecbb1
DTSTAMP:20260420T091719Z
DTSTART:20250906T083000Z
DTEND:20250906T093000Z
LOCATION:@Harwich Space Stour Road\,  Harwich\,  Essex CO12 3HF
SUMMARY:Menopause Cafe Harwich\,  Essex
DESCRIPTION:Contact Sarah: hello@sarah.hunt.co.uk\nhttps://www.menopausecaf
 e.net/events/menopause-cafe-harwich-2/
URL:https://www.menopausecafe.net/events/menopause-cafe-harwich-2/
END:VEVENT
END:VCALENDAR