BEGIN:VCALENDAR
VERSION:2.0
PRODID:-//eventon.com NONSGML v1.0//EN
CALSCALE:GREGORIAN
METHOD:PUBLISH
BEGIN:VEVENT
UID:69e9e084b7ee0
DTSTAMP:20260423T090404Z
DTSTART:20250828T210000Z
DTEND:20250829T055900Z
LOCATION:VINDEX No.290\,  Fu Shin North Rd.\, Taipei City
SUMMARY:Menopause Cafe Xin Yi District\,  Taipei City
DESCRIPTION:The first menopause cafe in Taiwan!! Please join us and follow 
 IG:menopause_cafe_taiwan Email: yvonnetzong@gmail.com\nhttps://www.menopaus
 ecafe.net/events/menopause-cafe-xin-yi-district-taipei-city/
URL:https://www.menopausecafe.net/events/menopause-cafe-xin-yi-district-taipei-city/
END:VEVENT
END:VCALENDAR