BEGIN:VCALENDAR
VERSION:2.0
PRODID:-//eventon.com NONSGML v1.0//EN
CALSCALE:GREGORIAN
METHOD:PUBLISH
BEGIN:VEVENT
UID:69e9e134c0dbb
DTSTAMP:20260423T090700Z
DTSTART:20250916T170000Z
DTEND:20250916T183000Z
LOCATION:Cafe Sorella Street Lane\,  Gildersome\,  Leeds
SUMMARY:Menopause Cafe Gildersome\,  Leeds
DESCRIPTION:Event location: Cafe Sorella\,  Town Street\,  Gildersome Conta
 ct Katie Graves katielouisecounselling@gmail.com See URL below to book.\nht
 tps://www.menopausecafe.net/events/leeds-cafe-sorella-gildersome/
URL:https://www.menopausecafe.net/events/leeds-cafe-sorella-gildersome/
END:VEVENT
END:VCALENDAR