BEGIN:VCALENDAR
VERSION:2.0
PRODID:-//eventon.com NONSGML v1.0//EN
CALSCALE:GREGORIAN
METHOD:PUBLISH
BEGIN:VEVENT
UID:69e5fb86cc3a4
DTSTAMP:20260420T101014Z
DTSTART:20250915T183000Z
DTEND:20250915T193000Z
LOCATION:Iona Village Hall Isle of Iona\,  PA76 6SJ
SUMMARY:Menopause Cafe Iona\,  Argyll and Bute 
DESCRIPTION:Open to all ages and genders\,  residents and tourists\,  join 
 us to drink tea\,  eat cake and talk menopause together. No need to book\, 
  just turn up on the night. If you have any questions in advance\,  please 
 contact: Rachel: chairperson@menopausecafe.net or Fiona: ionavillagehallboo
 kings@gmail.com\nhttps://www.menopausecafe.net/events/menopause-cafe-iona/
URL:https://www.menopausecafe.net/events/menopause-cafe-iona/
END:VEVENT
END:VCALENDAR