BEGIN:VCALENDAR
VERSION:2.0
PRODID:-//eventon.com NONSGML v1.0//EN
CALSCALE:GREGORIAN
METHOD:PUBLISH
BEGIN:VEVENT
UID:69e5ef7340e19
DTSTAMP:20260420T091843Z
DTSTART:20251028T110000Z
DTEND:20251028T235900Z
LOCATION:Scotland Office Dover House\,  70 Whitehall\,  London SW1A 2AU
SUMMARY:Menopause Cafe Westminster\,  London
DESCRIPTION:All parliamentarians and parliamentary staff are welcome to dri
 nk tea\,  eat cake and talk menopause.  Hosted by Jonathan Darby of the Sc
 otland Office. Contact Jonathan Darby for details.\nhttps://www.menopauseca
 fe.net/events/menopause-cafe-whitehall/
URL:https://www.menopausecafe.net/events/menopause-cafe-whitehall/
END:VEVENT
END:VCALENDAR