BEGIN:VCALENDAR
VERSION:2.0
PRODID:-//eventon.com NONSGML v1.0//EN
CALSCALE:GREGORIAN
METHOD:PUBLISH
BEGIN:VEVENT
UID:69e5ef2b963bb
DTSTAMP:20260420T091731Z
DTSTART:20251016T173000Z
DTEND:20251016T190000Z
LOCATION:Nuffield Health Newcastle Upon Tyne Clayton Rd\,  Jesmond\,  Newcastle upon Tyne NE2 1JP
SUMMARY:Menopause Cafe - Nuffield Healthcare\, Newcastle Upon Tyne
DESCRIPTION:To register free attendance please email debbie.oliphant@nuffie
 ldhealth.com\nhttps://www.menopausecafe.net/events/national-nuffield-menopa
 use-cafe-newcastle-upon-tyne/
URL:https://www.menopausecafe.net/events/national-nuffield-menopause-cafe-newcastle-upon-tyne/
END:VEVENT
END:VCALENDAR