BEGIN:VCALENDAR
VERSION:2.0
PRODID:-//eventon.com NONSGML v1.0//EN
CALSCALE:GREGORIAN
METHOD:PUBLISH
BEGIN:VEVENT
UID:69e9e0b8e1054
DTSTAMP:20260423T090456Z
DTSTART:20250924T180000Z
DTEND:20250924T200000Z
LOCATION:The Lantern Hub 195 - 205 Worple Road\,  Raynes Park SW20 8RA
SUMMARY:Menopause Cafe Wimbledon and Raynes Park
DESCRIPTION:See URL below to book\nhttps://www.menopausecafe.net/events/men
 opause-cafe-wimbledon-and-raynes-park-4/
URL:https://www.menopausecafe.net/events/menopause-cafe-wimbledon-and-raynes-park-4/
END:VEVENT
END:VCALENDAR