BEGIN:VCALENDAR
VERSION:2.0
PRODID:-//eventon.com NONSGML v1.0//EN
CALSCALE:GREGORIAN
METHOD:PUBLISH
BEGIN:VEVENT
UID:69e5ed4139fc1
DTSTAMP:20260420T090921Z
DTSTART:20251001T170000Z
DTEND:20251001T183000Z
LOCATION:Langstone Quays Resort Northney Rd\,  Portsmouth\,  Hayling Island PO11 0NQ 
SUMMARY:Menopause Cafe Hayling Island\,  Hampshire
DESCRIPTION:See URL below to book\nhttps://www.menopausecafe.net/events/hay
 ling-island-menopause-cafe-2/
URL:https://www.menopausecafe.net/events/hayling-island-menopause-cafe-2/
END:VEVENT
END:VCALENDAR