BEGIN:VCALENDAR
VERSION:2.0
PRODID:-//eventon.com NONSGML v1.0//EN
CALSCALE:GREGORIAN
METHOD:PUBLISH
BEGIN:VEVENT
UID:69e9ea58d9199
DTSTAMP:20260423T094600Z
DTSTART:20250924T113000Z
DTEND:20250924T123000Z
LOCATION:Planet Coffee 162 Newland Avenue\,  Hull\,  HU5 2NE
SUMMARY:Menopause Cafe Menopaus’ull\,  Hull\,  East Yorkshire
DESCRIPTION:Join us on Wednesday 24th September from 12.30pm till 1.30pm fo
 r our Menopaus’ull Café at Planet Coffee\,  162 Newland Avenue\,  Hull\,
   HU5 2NE for an informal chat where we can openly and safely share experie
 nces with other like-minded ladies who are discovering their own ways of co
 ping with this journey\, [..]\nhttps://www.menopausecafe.net/events/menopau
 sull-cafe-planet-coffee/
URL:https://www.menopausecafe.net/events/menopausull-cafe-planet-coffee/
END:VEVENT
END:VCALENDAR