BEGIN:VCALENDAR
VERSION:2.0
PRODID:-//eventon.com NONSGML v1.0//EN
CALSCALE:GREGORIAN
METHOD:PUBLISH
BEGIN:VEVENT
UID:69e9e0e5acef2
DTSTAMP:20260423T090541Z
DTSTART:20251126T123000Z
DTEND:20251126T133000Z
LOCATION:Hull University Middleton Hall Arts Café\,  HU6 7RX
SUMMARY:Menopause Cafe Menopaus'ull Hull\,  East Yorkshire
DESCRIPTION:Navigating the journey of menopause can be hard so let’s gath
 er around\,  drink tea and create a supportive discussion together at our M
 enopaus’ull Cafe! A Menopaus&#8217;ull cafe is a place where we can openl
 y and safely share experiences and connect with other like-minded ladies wh
 o are discovering their own ways[..]\nhttps://www.menopausecafe.net/events/
 menopausull-cafe-hull-university/
URL:https://www.menopausecafe.net/events/menopausull-cafe-hull-university/
END:VEVENT
END:VCALENDAR