BEGIN:VCALENDAR
VERSION:2.0
PRODID:-//eventon.com NONSGML v1.0//EN
CALSCALE:GREGORIAN
METHOD:PUBLISH
BEGIN:VEVENT
UID:69e4e55a1c8ff
DTSTAMP:20260419T142322Z
DTSTART:20251010T120000Z
DTEND:20251010T140000Z
LOCATION:Ausflug zur Auwiesn-trip to Auwiesn Graz
SUMMARY:Menopause Cafe Steiermark\,  Austria
DESCRIPTION:Maroni und Sturm&nbsp;\nhttps://www.menopausecafe.net/events/me
 nopause-cafe-steiermark-3/
URL:https://www.menopausecafe.net/events/menopause-cafe-steiermark-3/
END:VEVENT
END:VCALENDAR