BEGIN:VCALENDAR
VERSION:2.0
PRODID:-//eventon.com NONSGML v1.0//EN
CALSCALE:GREGORIAN
METHOD:PUBLISH
BEGIN:VEVENT
UID:69e737812e4bc
DTSTAMP:20260421T083825Z
DTSTART:20260123T161500Z
DTEND:20260123T170000Z
LOCATION:Potomac Library 2201 Opitz Boulevard\,  Woodbridge\,  VA 22191\,  United States
SUMMARY:Menopause Cafe Prince William County\,  Virginia\,  USA
DESCRIPTION:Join us for a Menopause Cafe event immediately following Potoma
 c Library&#8217;s &#8220;Mastering Menopause&#8221; series speaker. We will
  have coffee\,  tea\,  and treats to enjoy while we talk together about thi
 s transitional stage of life.&nbsp;\nhttps://www.menopausecafe.net/events/m
 enopause-cafe-prince-william-county-virginia-usa-4/
URL:https://www.menopausecafe.net/events/menopause-cafe-prince-william-county-virginia-usa-4/
END:VEVENT
END:VCALENDAR