BEGIN:VCALENDAR
VERSION:2.0
PRODID:-//eventon.com NONSGML v1.0//EN
CALSCALE:GREGORIAN
METHOD:PUBLISH
BEGIN:VEVENT
UID:69e5ef015b9d5
DTSTAMP:20260420T091649Z
DTSTART:20251001T180000Z
DTEND:20251001T193000Z
LOCATION:The Weston Community Hub Gilchrist Avenue\,  Macclesfield\,  SK11 8UH
SUMMARY:Menopause Cafe Macclesfield\,  Cheshire
DESCRIPTION:Contact: nataliecoomer@live.co.uk\nhttps://www.menopausecafe.ne
 t/events/menopause-cafe-macclesfield-3/
URL:https://www.menopausecafe.net/events/menopause-cafe-macclesfield-3/
END:VEVENT
END:VCALENDAR