BEGIN:VCALENDAR
VERSION:2.0
PRODID:-//eventon.com NONSGML v1.0//EN
CALSCALE:GREGORIAN
METHOD:PUBLISH
BEGIN:VEVENT
UID:69e74dddf31af
DTSTAMP:20260421T101349Z
DTSTART:20251023T180000Z
DTEND:20251023T193000Z
LOCATION:The Old Bull Inn 59 High Street\,  Royston\,  SG8 9AW
SUMMARY:Menopause Cafe Royston
DESCRIPTION:Join us for this friendly and welcoming Menopause Cafe Royston 
 in the Oak Room\,  at The Old Bull Inn\,  Royston. October is not just Meno
 pause Awareness Month\,  it&#8217;s also the 3rd anniversary of Menopause C
 afe Royston. Celebrate with us. Grab a hot or cold drink and the bar and co
 me[..]\nhttps://www.menopausecafe.net/events/menopause-cafe-royston-11/
URL:https://www.menopausecafe.net/events/menopause-cafe-royston-11/
END:VEVENT
END:VCALENDAR