BEGIN:VCALENDAR
VERSION:2.0
PRODID:-//eventon.com NONSGML v1.0//EN
CALSCALE:GREGORIAN
METHOD:PUBLISH
BEGIN:VEVENT
UID:69e4ec7a8395c
DTSTAMP:20260419T145346Z
DTSTART:20251016T173000Z
DTEND:20251016T190000Z
LOCATION:Nuffield Health Glasgow Central Fitness &amp; Wellbeing Gym 141 Finnieston Street\,  Glasgow G3 8HB
SUMMARY:Menopause Cafe Nuffield Health Glasgow
DESCRIPTION:Join us on Thursday 16th October at 6:30pm at Nuffield Health G
 lasgow Central Fitness &amp; Wellbeing Gym for a relaxed and welcoming spac
 e to talk openly about menopause. Everyone is welcome and we’ll be having
  conversations over coffee\,  tea\,  and cake. Whether you&#8217;re experie
 ncing menopause\,  supporting someone who is\,  or[..]\nhttps://www.menopau
 secafe.net/events/menopause-cafe-nuffield-health-glasgow/
URL:https://www.menopausecafe.net/events/menopause-cafe-nuffield-health-glasgow/
END:VEVENT
END:VCALENDAR