BEGIN:VCALENDAR
VERSION:2.0
PRODID:-//eventon.com NONSGML v1.0//EN
CALSCALE:GREGORIAN
METHOD:PUBLISH
BEGIN:VEVENT
UID:69e76d78e5970
DTSTAMP:20260421T122840Z
DTSTART:20251014T093000Z
DTEND:20251014T103000Z
LOCATION:Bayer Belgium Diegem Kouterveldstraat 7a/301a\,  1831 Machelen\,  Belgium
SUMMARY:Menopause Cafe at Work Bayer Belgium
DESCRIPTION:For Bayer employees only\nhttps://www.menopausecafe.net/events/
 menopause-cafe-at-work-bayer-3/
URL:https://www.menopausecafe.net/events/menopause-cafe-at-work-bayer-3/
END:VEVENT
END:VCALENDAR