BEGIN:VCALENDAR
VERSION:2.0
PRODID:-//eventon.com NONSGML v1.0//EN
CALSCALE:GREGORIAN
METHOD:PUBLISH
BEGIN:VEVENT
UID:69e5ee7d7ea39
DTSTAMP:20260420T091437Z
DTSTART:20251016T120000Z
DTEND:20251016T130000Z
LOCATION:Bayer Basel office Peter Merian strasse 84 4051 Basel
SUMMARY:Menopause Cafe at Work Bayer\,  Basel
DESCRIPTION:For Bayer employees only\nhttps://www.menopausecafe.net/events/
 menopause-cafe-at-work-bayer-4/
URL:https://www.menopausecafe.net/events/menopause-cafe-at-work-bayer-4/
END:VEVENT
END:VCALENDAR