BEGIN:VCALENDAR
VERSION:2.0
PRODID:-//eventon.com NONSGML v1.0//EN
CALSCALE:GREGORIAN
METHOD:PUBLISH
BEGIN:VEVENT
UID:69e9e15bd81b3
DTSTAMP:20260423T090739Z
DTSTART:20251017T070000Z
DTEND:20251017T080000Z
LOCATION:
SUMMARY:Menopause Cafe at Work Bayer Berlin
DESCRIPTION:For Bayer employees only\nhttps://www.menopausecafe.net/events/
 menopause-cafe-at-work-bayer-berlin-6/
URL:https://www.menopausecafe.net/events/menopause-cafe-at-work-bayer-berlin-6/
END:VEVENT
END:VCALENDAR