BEGIN:VCALENDAR
VERSION:2.0
PRODID:-//eventon.com NONSGML v1.0//EN
CALSCALE:GREGORIAN
METHOD:PUBLISH
BEGIN:VEVENT
UID:69e9de1a51edd
DTSTAMP:20260423T085346Z
DTSTART:20250930T170000Z
DTEND:20250930T190000Z
LOCATION:Wellspring Methodist Church
SUMMARY:Menopause Cafe Cheadle\,  Staffordshire
DESCRIPTION:Wellspring Methodist Church\,  Chapel Street\,  Cheadle\,  Staf
 fordshire Free parking on Tape Street Car Park Refreshments available.\nhtt
 ps://www.menopausecafe.net/events/menopause-cafe-cheadle-staffordshire-5/
URL:https://www.menopausecafe.net/events/menopause-cafe-cheadle-staffordshire-5/
END:VEVENT
END:VCALENDAR