BEGIN:VCALENDAR
VERSION:2.0
PRODID:-//eventon.com NONSGML v1.0//EN
CALSCALE:GREGORIAN
METHOD:PUBLISH
BEGIN:VEVENT
UID:69e5edae339ed
DTSTAMP:20260420T091110Z
DTSTART:20260320T121500Z
DTEND:20260320T130000Z
LOCATION:Enfield Council Online
SUMMARY:Menopause Cafe Enfield Council\,  London
DESCRIPTION:Online Workplace Event\nhttps://www.menopausecafe.net/events/en
 field-council-menopause-cafe-8/var/ri-2.l-L1
URL:https://www.menopausecafe.net/events/enfield-council-menopause-cafe-8/var/ri-2.l-L1
END:VEVENT
END:VCALENDAR