BEGIN:VCALENDAR
VERSION:2.0
PRODID:-//eventon.com NONSGML v1.0//EN
CALSCALE:GREGORIAN
METHOD:PUBLISH
BEGIN:VEVENT
UID:69e9e0af064f3
DTSTAMP:20260423T090447Z
DTSTART:20251028T120000Z
DTEND:20251028T130000Z
LOCATION:Online Menopause Cafe
SUMMARY:Meopause Cafe - Shepherd and Wedderburn
DESCRIPTION:Online Menopause Cafe for Shepherd and Wedderburn colleagues\nh
 ttps://www.menopausecafe.net/events/meopause-cafe-shepherd-and-wedderburn/
URL:https://www.menopausecafe.net/events/meopause-cafe-shepherd-and-wedderburn/
END:VEVENT
END:VCALENDAR