BEGIN:VCALENDAR
VERSION:2.0
PRODID:-//eventon.com NONSGML v1.0//EN
CALSCALE:GREGORIAN
METHOD:PUBLISH
BEGIN:VEVENT
UID:69e9e0b915009
DTSTAMP:20260423T090457Z
DTSTART:20250930T180000Z
DTEND:20250930T190000Z
LOCATION:Gejeret 40 West Green Road London N15 5NP
SUMMARY:Menopause Cafe Tottenham\,  London
DESCRIPTION:See URL below to book\nhttps://www.menopausecafe.net/events/men
 opause-cafe-tottenham-london-2/
URL:https://www.menopausecafe.net/events/menopause-cafe-tottenham-london-2/
END:VEVENT
END:VCALENDAR