BEGIN:VCALENDAR
VERSION:2.0
PRODID:-//eventon.com NONSGML v1.0//EN
CALSCALE:GREGORIAN
METHOD:PUBLISH
BEGIN:VEVENT
UID:69e9e1522d419
DTSTAMP:20260423T090730Z
DTSTART:20251029T183000Z
DTEND:20251029T200000Z
LOCATION:Caffe Grande Abaco Lemon Grove Room (Top Floor)\,  Uppermill\,  Saddleworth\,  Oldham OL3 6AP
SUMMARY:Menopause Cafe Oldham & Saddleworth\,  Greater Manchester
DESCRIPTION:Jenny Eastwood &#8211; Calm Ahead CIC info@calmahead.co.uk Join
  us on the last Wednesday of each month in a relaxed\,  friendly space to c
 hat about all things menopause. Our only agenda is to share knowledge and e
 xpertise to empower women around their own health and wellbeing. No pressur
 e &#8211; just open\, [..]\nhttps://www.menopausecafe.net/events/menopause-
 cafe-oldham-saddleworth-uk/
URL:https://www.menopausecafe.net/events/menopause-cafe-oldham-saddleworth-uk/
END:VEVENT
END:VCALENDAR