BEGIN:VCALENDAR
VERSION:2.0
PRODID:-//eventon.com NONSGML v1.0//EN
CALSCALE:GREGORIAN
METHOD:PUBLISH
BEGIN:VEVENT
UID:69e9df48a5f06
DTSTAMP:20260423T085848Z
DTSTART:20251013T173000Z
DTEND:20251013T183000Z
LOCATION:Online
SUMMARY:Menopause Cafe Online from Manchester
DESCRIPTION:Informal online menopause cafe event. All welcome. See URL belo
 w to book\nhttps://www.menopausecafe.net/events/menopause-cafe-manchester/
URL:https://www.menopausecafe.net/events/menopause-cafe-manchester/
END:VEVENT
END:VCALENDAR