BEGIN:VCALENDAR
VERSION:2.0
PRODID:-//eventon.com NONSGML v1.0//EN
CALSCALE:GREGORIAN
METHOD:PUBLISH
BEGIN:VEVENT
UID:69e9e0ba20830
DTSTAMP:20260423T090458Z
DTSTART:20251128T100000Z
DTEND:20251128T120000Z
LOCATION:The ME Project The Office\,  Phoenix House\,  Doncaster DN3 1QL\,  United Kingdom
SUMMARY:Menopause Cafe Kirk Sandall\,  Doncaster ME Project
DESCRIPTION:Contact Sarah: sarahbroomtherapy@gmail.com\nhttps://www.menopau
 secafe.net/events/menopause-cafe-doncaster-me-project-4/
URL:https://www.menopausecafe.net/events/menopause-cafe-doncaster-me-project-4/
END:VEVENT
END:VCALENDAR